Workbook

Sheet Compilation
E2: Instruction open EXCEL
A3: order @ > mail@ligaair.ch < | E3: Save document under new name completely open file
A4: Name: | B4: …… | E4: - Area ① - ⑫ | F4: - Unit Price | G4: € excl. Vat
A7: Commision: | B7: ……
A9: Date: | B9: =TODAY() -> 46302
A11: LIGA.AIR / Services
A12: NETWORK MAKING | C12: Create network evolution, basic programming, release options | D12: € | E12: 1 | F12: 200 | G12: =E12*F12 -> 200
A13: DELIVEERD PARTS | C13: Read in modules on CASAMBI APP program | D13: € | E13: =E18+E19+E20+E22+E23+E24+E25+E26+E27+E28+E29+E30+(E31*16)+(E32*32)+(E33*64)+E34+E35+(E36*16)+(E37*32)+(E38*64)+E39+E40+E41+E42+E43+E44+E45+E46+E49+E50+E51+E52+E53+E54+E55+E56+E57+E58+E59+E60+E61+E62+E63+E64+E65+E66+E69+E70+E73+E74+E77+E78+E81+E82+E83+E84+E85+E86+E87+E88+E89+E90+E91+E92+E93+E94+E95+E98+E99+E100+E101+E104+E105+E106+E107+E108+E109+E110+E111+E112+E113+E114+E115+E116+E117+E118+E119+E120+E121+E122+E123+E124+E128+E135+E136+E137+E138+E139+E140+E141+E142+E143+E144+E145+E146+(E146*16)+(E147*16)+(E148*16)+(E149*32)+(E150*32)+(E151*32)+(E152*64)+(E153*64)+(E154*64)+E155+E156+E157+E158+E159+E160+E161+E162+E163+E164+E165+E168+E169+E170+E171+E172+E173+E174+E175 -> 0 | F13: 20 | G13: =E13*F13 -> 0
A14: EXTERNIAL PARTS | C14: Read in external CASAMBI ready devices e.g. luminaires | D14: € | E14: 0 | F14: 20 | G14: =E14*F14 -> 0
A15: TOTAL Services | G15: =SUM(G12:G14) -> 200
A17: ='Light modules'!C7 -> LIGA.AIR / Light modules
A18: LIGA.AIR. | B18: ='Light modules'!C9 -> DIM.CBU-TED | C18: Load dimming up to 150W see data sheet | D18: € | E18: ='Light modules'!C27 -> 0 | F18: 90 | G18: =E18*F18 -> 0
A19: LIGA.AIR. | B19: ='Light modules'!D9 -> DIM.T13.S | C19: Load dimming up to 150W see data sheet | D19: € | E19: ='Light modules'!D27 -> 0 | F19: 140 | G19: =E19*F19 -> 0
A20: LIGA.AIR. | B20: ='Light modules'!E9 -> DIM.300 | C20: Load dimming up to 300W with 1 push button | D20: € | E20: ='Light modules'!E27 -> 0 | F20: 134 | G20: =E20*F20 -> 0
A21: LIGA.AIR. | B21: DIM.300.ZE | C21: Strain relief and touch protection for LIGA.AIR.DIM.300 | D21: € | F21: 4 | G21: =E21*F21 -> 0
A22: LIGA.AIR. | B22: ='Light modules'!F9 -> DIM.CRD.400 | C22: Load dimming up to 400W with 1 push button | D22: € | E22: ='Light modules'!F27 -> 0 | F22: 270 | G22: =E22*F22 -> 0
A23: Art. Nr. | B23: ='Light modules'!G9 -> SELI800.26.506 | C23: Load dimmer DU.700.C / 1-10V / DALI / slot for 2 x 700W CASAMBI | D23: € | E23: ='Light modules'!G27 -> 0 | F23: 480 | G23: =E23*F23 -> 0
A24: LIGA.AIR. | B24: ='Light modules'!H9 -> UD.700.C | C24: Control module for UD.700.C | D24: € | E24: ='Light modules'!H27 -> 0 | F24: 200 | G24: =E24*F24 -> 0
A25: LIGA.AIR. | B25: ='Light modules'!I9 -> DALI.ASA | C25: DALI broadcast default up to 10 devices (profiled) | D25: € | E25: ='Light modules'!I27 -> 0 | F25: 95 | G25: =E25*F25 -> 0
A26: LIGA.AIR. | B26: ='Light modules'!J9 -> DALI.240+ | C26: DALI with cabel broudcast default up to 50 modules (profiled) | D26: € | E26: ='Light modules'!J27 -> 0 | F26: 160 | G26: =E26*F26 -> 0
A27: LIGA.AIR. | B27: ='Light modules'!K9 -> DALI.1T.PIC | C27: DALI broudcast default up to 30 modules (profiled) | D27: € | E27: ='Light modules'!K27 -> 0 | F27: 175 | G27: =E27*F27 -> 0
A28: LIGA.AIR. | B28: ='Light modules'!L9 -> DALI 1+2 Pico | C28: 2 x DALI broudcast default up to 30 modules (profiled) | D28: € | E28: ='Light modules'!L27 -> 0 | F28: 200 | G28: =E28*F28 -> 0
A29: LIGA.AIR. | B29: ='Light modules'!N9 -> DALI.1K.4.T | C29: DALI broudcast default up to 50 modules (profiled 1-4 button active) | D29: € | E29: ='Light modules'!N27 -> 0 | F29: 180 | G29: =E29*F29 -> 0
A30: LIGA.AIR. | B30: ='Light modules'!O9 -> 4.DALI.4.T | C30: 4 DALI broudcast default up to 100 modules 200mA (profiled) & each 1 button pro DALI | D30: € | E30: ='Light modules'!O27 -> 0 | F30: 550 | G30: =E30*F30 -> 0
A31: LIGA.AIR. | B31: ='Light modules'!P9 -> SAL.1016 | C31: Salvador 1016 for 16 DALI end devices | D31: € | E31: ='Light modules'!P27 -> 0 | F31: 350 | G31: =E31*F31 -> 0
A32: LIGA.AIR. | B32: ='Light modules'!Q9 -> SAL.1032 | C32: Salvador 1016 for 32 DALI end devices | D32: € | E32: ='Light modules'!Q27 -> 0 | F32: 560 | G32: =E32*F32 -> 0
A33: LIGA.AIR. | B33: ='Light modules'!R9 -> SAL.1064 | C33: Salvador 1016 for 64 DALI end devices | D33: € | E33: ='Light modules'!R27 -> 0 | F33: 850 | G33: =E33*F33 -> 0
A34: LIGA.AIR. | B34: ='Light modules'!S9 -> PS.SALVADOR | C34: Power Supply for 2 pcs Salvador DALI Series 1000 | D34: € | E34: ='Light modules'!S27 -> 0 | F34: 180 | G34: =E34*F34 -> 0
A35: LIGA.AIR. | B35: ='Light modules'!T9 -> 960020066 | C35: Power Supply for Salvador DALI Series 1000 | D35: € | E35: ='Light modules'!T27 -> 0 | F35: 100 | G35: =E35*F35 -> 0
A36: LIGA.AIR. | B36: ='Light modules'!U9 -> SAL 2016 | C36: Salvador 2016 for 16 DALI end devices DALI 12-15VDC 130mA | D36: € | E36: ='Light modules'!U27 -> 0 | F36: 380 | G36: =E36*F36 -> 0
A37: LIGA.AIR. | B37: ='Light modules'!V9 -> SAL 2032 | C37: Salvador 2016 for 32 DALI end devices DALI 12-15VDC 130mA | D37: € | E37: ='Light modules'!V27 -> 0 | F37: 600 | G37: =E37*F37 -> 0
A38: LIGA.AIR. | B38: ='Light modules'!W9 -> SAL 2064 | C38: Salvador 2016 for 64 DALI end devices DALI 12-15VDC 130mA | D38: € | E38: ='Light modules'!W27 -> 0 | F38: 880 | G38: =E38*F38 -> 0
A39: LIGA.AIR. | B39: ='Light modules'!X9 -> DALI.480+ | C39: LIGAAIR control module DALI 100 - 480V, 50/60 Hz e, max. 40mA | D39: € | E39: ='Light modules'!X27 -> 0 | F39: 205 | G39: =E39*F39 -> 0
A40: LIGA.AIR. | B40: ='Light modules'!Y9 -> DALI.DOSE+ | C40: For football pitches installed, wired in box gray 130x130x77mm IP 68 | D40: € | E40: ='Light modules'!Y27 -> 0 | F40: 270 | G40: =E40*F40 -> 0
A41: LIGA.AIR. | B41: ='Light modules'!Z9 -> CBU-ASD | C41: DALI 1 device (profiled) | D41: € | E41: ='Light modules'!Z27 -> 0 | F41: 100 | G41: =E41*F41 -> 0
A42: LIGA.AIR. | B42: CBU-A2D | C42: 1-10V or DALI up to 1 device (profiled) | D42: € | E42: ='Light modules'!AA27 -> 0 | F42: 100 | G42: =E42*F42 -> 0
A43: LIGA.AIR. | B43: ='Light modules'!AB9 -> CBU-PWM4 | C43: RGBW max 6A | D43: € | E43: ='Light modules'!AB27 -> 0 | F43: 120 | G43: =E43*F43 -> 0
A44: LIGA.AIR. | B44: ='Light modules'!AC9 -> PWM.1.2.BT.IW | C44: LED tapes 1 or 2 channel | D44: € | E44: ='Light modules'!AC27 -> 0 | F44: 100 | G44: =E44*F44 -> 0
A45: LIGA.AIR. | B45: ='Light modules'!AD9 -> PWM.4.12-24+ | C45: LED ribbons 4 channel RGBW 400W | D45: € | E45: ='Light modules'!AD27 -> 0 | F45: 140 | G45: =E45*F45 -> 0
A46: LIGA.AIR. | B46: ='Light modules'!AE9 -> PWM5+ | C46: LED ribbons 5 channel RGBWTW or 1200W | D46: € | E46: ='Light modules'!AE27 -> 0 | F46: 160 | G46: =E46*F46 -> 0
...

Sheet Light modules
E2: =Compilation!B4 -> ……
E3: =Compilation!B7 -> ……
E4: =Compilation!B9 -> 46302
C7: LIGA.AIR / Light modules
A9: name | C9: DIM.CBU-TED | D9: DIM.T13.S | E9: DIM.300 | F9: DIM.CRD.400 | G9: SELI800.26.506 | H9: UD.700.C | I9: DALI.ASA | J9: DALI.240+ | K9: DALI.1T.PIC | L9: DALI 1+2 Pico | M9: OD.DALI240+ | N9: DALI.1K.4.T | O9: 4.DALI.4.T | P9: SAL.1016 | Q9: SAL.1032 | R9: SAL.1064 | S9: PS.SALVADOR | T9: 960020066 | U9: SAL 2016 | V9: SAL 2032 | W9: SAL 2064 | X9: DALI.480+ | Y9: DALI.DOSE+ | Z9: CBU-ASD | AA9: CBU-A2D | AB9: CBU-PWM4 | AC9: PWM.1.2.BT.IW | AD9: PWM.4.12-24+ | AE9: PWM5+
A10: described | C10: 150W / VA | D10: 150W / VA | E10: 300W / VA | F10: 400W / VA | G10: 2 x 700W | H10: Casambi Module | I10: up to 10 modules | J10: up to 50 modules | K10: up to 25 modules | L10: up to 25 modules | M10: 25 Moduls 1 Button | N10: 25 modules 4 buttons | O10: 4x25 modules 4 but. | P10: 16 DALI devices | Q10: 32 DALI devices | R10: 64 DALI devices | S10: Feeding 2 Salvador | T10: Feeding Salvador | U10: 16 DALI devices | V10: 32 DALI devices | W10: 64 DALI devices | X10: 20 DALI devises | Y10: 21 DALI devises | Z10: 1 module DALI or 1-10V | AA10: 1 module DALI or 1-10V | AB10: RGBW max 6A | AC10: 12/24V 100W | AD10: 12/24V 400W | AE10: 12/24V 1200W
A11: profiles see scheme | C11: Phase cut- Section | D11: Phase cut- Section | E11: Phase cut- Section | F11: Phase cut- Section | G11: Phase cut- Section | H11: incl 4 buttons inputs | I11: profiled | J11: profiled | K11: profiled | L11: profiled | M11: profiliert | N11: profiled | O11: profiled | P11: creates 16 icons | Q11: creates 32 icons | R11: creates 64 icons | U11: creates 16 icons | V11: creates 32 icons | W11: creates 64 icons | X11: profiliert | Y11: profiliert | Z11: profiled | AA11: profiled | AB11: profiled | AC11: LED 1 or 2 Channel | AD11: LED 4 Channel | AE11: LED 5 Channel
A12: "long rage" BT5 | C12: yes | D12: yes | E12: yes | F12: yes | G12: yes | H12: yes | I12: yes | J12: yes | K12: yes | L12: yes | M12: yes | N12: yes | O12: yes | P12: yes | Q12: yes | R12: yes | S12: yes | T12: yes | U12: yes | V12: yes | W12: yes | X12: yes | Y12: yes | Z12: yes | AA12: yes | AB12: yes | AC12: yes | AD12: yes
A13: Area number | B13: floor area name
A14: dimensions | C14: 40 x 37 x 14mm | D14: 1m 40x40x22mm | E14: 45 x 48 x 20mm | F14: 102x57x30mm | G14: 105x100x60mm | H14: 48x30x16mm | I14: 42.5 x 35.5 x 20mm | J14: 38 x 38 x 26mm | K14: 61 x 27 x 21mm | L14: 80 x 27 x 21mm | M14: 44x44x23mm | N14: 44 x 44 x 23mm | O14: DIN 107x91x62mm | P14: 40 x 37 x 14mm | Q14: 40 x 37 x 14mm | R14: 40 x 37 x 14mm | S14: 106x90x62mm | T14: 45x45x25mm | U14: 106 x 67 x 28mm | V14: 107 x 67 x 28mm | W14: 108 x 67 x 28mm | X14: 70 x 50 x 35mm | Y14: 130x130x77mm | Z14: 57 x 36 x 22mm | AA14: 76 x 26 x 23mm | AB14: 73x30x18mm | AC14: 10x33x20mm | AD14: 44 x 44 x 23mm | AE14: 70 x 50 x 38mm
A15: ① | B15: Area name 1
A16: ② | B16: Area name 2
A17: ③ | B17: Area name 3
A18: ④ | B18: Area name 4
A19: ⑤ | B19: Area name 5
A20: ⑥ | B20: Area name 6
A21: ⑦ | B21: Area name 7
A22: ⑧ | B22: Area name 8
A23: ⑨ | B23: Area name 9
A24: ⑩ | B24: Area name 10
A25: ⑪ | B25: Area name 11
A26: ⑫ | B26: Area name 12
A27: TOTAL | C27: =SUM(C15:C26) -> 0 | D27: =SUM(D15:D26) -> 0 | E27: =SUM(E15:E26) -> 0 | F27: =SUM(F15:F26) -> 0 | G27: =SUM(G15:G26) -> 0 | H27: =SUM(H15:H26) -> 0 | I27: =SUM(I15:I26) -> 0 | J27: =SUM(J15:J26) -> 0 | ... AE27: =SUM(AE15:AE26) -> 0

Sheet Element
E2: =Compilation!$B$4 -> ……
E3: =Compilation!$B$7 -> ……
E4: =Compilation!$B$9 -> 46302
C6: LIGA.AIR / Element
A8: name | C8: REL.240 | D8: OD.2REL240+ | E8: REL.4T.240 | F8: 2.REL.240 | G8: REL.240.TKW | H8: REL.240.TKS | I8: REP.240.EURO | J8: REP.BATT+ | K8: REL.TIM480+ | L8: REP.240 | M8: OD.REP.240+ | N8: REP SOLAR | O8: STO.2T240+ | P8: STO.240+ | Q8: 4 STOREL+8T | R8: 2X4REL.4.T.240 | S8: 3x2REL.3T | T8: 8.REL.240
A9: described | C9: 240V 10A | D9: 240V 10A | E9: 240V 10A | F9: 240V 10A | G9: 240V 10A | H9: 240V 10A | I9: Repeater plug | J9: Repeater backup | K9: battery relay repeater | L9: Repeater | M9: Repeater | N9: Repeater | O9: blinds module + 2 buttons | P9: blinds module | Q9: blinds module | R9: 240V 10A | S9: 240V 10A | T9: 240V 10A
A10: profiles see scheme | C10: switching relays | D10: Schaltrelais + Antenne | E10: switching relays +4 button | F10: change switch 2 x profiled | G10: switching relays | H10: switching relays | K10: 72h autonomy | O10: on / off / 2 buttons | P10: on / off | Q10: 4 on/ off/ 8 buttons | R10: 8 switching relays 4 buttons | S10: 6 Schaltrelais 4 Taster | T10: 8 switching relays prifiled
A11: "long rage" BT5 | C11: yes | D11: yes | E11: yes | F11: yes | G11: yes | H11: yes | I11: yes | J11: yes | K11: yes | L11: yes | M11: yes | N11: yes | O11: yes | P11: yes | Q11: yes | R11: yes | S11: yes | T11: yes
A12: Area number | B12: floor area name
A13: dimensions | C13: 32 x 32 x 20mm | D13: 44 x 44 x 23mm | E13: 44 x 44 x 23mm | F13: 50 x 50 x 25mm | G13: 95 x 30 x 28mm | H13: 95 x 30 x 28mm | I13: 38 x 39 x 32mm | J13: 38 x 39 x 32mm | K13: 70 x 50 x 35mm | L13: 35 x 35 x 22mm. | M13: 44 x 44 x22mm | N13: 190x250x50mm | O13: 50 x 50 x 25mm | P13: 50 x 50 x 25mm | Q13: DIN 107x91x62mm | R13: DIN 107x91x62mm | S13: DIN 107x91x62mm | T13: DIN 107x91x62mm
A14: ① | B14: ='Light modules'!B15 -> Area name 1
A15: ② | B15: ='Light modules'!B16 -> Area name 2
A16: ③ | B16: ='Light modules'!B17 -> Area name 3
A17: ④ | B17: ='Light modules'!B18 -> Area name 4
A18: ⑤ | B18: ='Light modules'!B19 -> Area name 5
A19: ⑥ | B19: ='Light modules'!B20 -> Area name 6
A20: ⑦ | B20: ='Light modules'!B21 -> Area name 7
A21: ⑧ | B21: ='Light modules'!B22 -> Area name 8
A22: ⑨ | B22: ='Light modules'!B23 -> Area name 9
A23: ⑩ | B23: ='Light modules'!B24 -> Area name 10
A24: ⑪ | B24: ='Light modules'!B25 -> Area name 11
A25: ⑫ | B25: ='Light modules'!B26 -> Area name 12
A26: TOTAL | C26: =SUM(C14:C25) -> 0 | D26: =SUM(D14:D25) -> 0 | E26: =SUM(E14:E25) -> 0 | F26: =SUM(F14:F25) -> 0 | G26: =SUM(G14:G25) -> 0 | H26: =SUM(H14:H25) -> 0 | I26: =SUM(I14:I25) -> 0 | J26: =SUM(J14:J25) -> 0 | ... T26: =SUM(T14:T25) -> 0

Sheet Sensors
D2: =Compilation!$B$4 -> ……
D3: =Compilation!$B$7 -> ……
D4: =Compilation!$B$9 -> 46302
C7: LIGA.AIR / Sensors
A9: name | C9: SP.W | D9: SP.G | E9: SP.S | F9: SP.BAT.W | G9: SP.BAT.G | H9: SP.BAT.S | I9: SP.CUBE.W | J9: SP.CUBE.S | K9: SP.CUBE.AE | L9: CUBE.USB.W | M9: CUBE.USB.S | N9: CUBE.USB.AE | O9: PS.USB.S | P9: SP.CUBE.H.E | Q9: SP.CUBE.H.N | R9: SP.ADA.W | S9: SP.ADA.G | T9: SP.ADA.S | U9: SP.360.W+ | V9: SP.360.G+ | W9: SP.360.S+ | X9: SP48.STU.W+ | Y9: SP48.STU.S+ | Z9: SP48.BUS.W+ | AA9: SP48.BUS.S+
A10: described | C10: motion detector | D10: motion detector | E10: motion detector | F10: battery motion detector | G10: battery motion detector | H10: battery motion detector | I10: battery motion detector | J10: battery motion detector | K10: battery motion detector | L10: USB C | M10: USB C | N10: USB C | O10: T11 / USB C | P10: battery motion detector | Q10: battery motion detector | R10: busbar 3 phase | S10: busbar 3 phase | T10: busbar 3 phase | U10: busbar 3 phase 360° | V10: busbar 3 phase 360° | W10: busbar 3 phase 360° | X10: 48V DC | Y10: 48V DC | Z10: 48V DC | AA10: 48V DC
A11: profiles see scheme | C11: white Ral 9010 | D11: grey RAL 7021 | E11: black RAL 9005 | F11: white Ral 9010 | G11: grey RAL 7021 | H11: black RAL 9005 | I11: white RAL 9010 | J11: black RAL 9005 | K11: ALU elox. | L11: white RAL 9010 | M11: black RAL 9005 | N11: ALU elox. | O11: black | P11: wood bright | Q11: wood dark | R11: white | S11: grey | T11: black | U11: white | V11: grey | W11: black | X11: Stucchi white | Y11: Stucchi black | Z11: Busfield white | AA11: Busfield black
A12: "long rage" BT5 | C12: yes | D12: yes | E12: yes | F12: yes | G12: yes | H12: yes | I12: yes | J12: yes | K12: yes | L12: yes | M12: yes | N12: yes | P12: yes | Q12: yes | R12: yes | S12: yes | T12: yes | U12: yes | V12: yes | W12: yes | X12: yes | Y12: yes | Z12: yes | AA12: yes
A13: Area number | B13: floor area name
A14: dimensions | C14: L=48 Ø 38 x Ø 25mm | D14: L=48 Ø 38 x Ø 25mm | E14: L=48 Ø 38 x Ø 25mm | F14: L=48 Ø 38 x Ø 25mm | G14: L=48 Ø 38 x Ø 25mm | H14: L=48 Ø 38 x Ø 25mm | I14: 70 x 30 x 70mm | J14: 70 x 30 x 70mm | K14: 70 x 30 x 70mm | L14: 70 x 30 x 70mm | M14: 70 x 30 x 70mm | N14: 70 x30 x 70mm | O14: 1'500mm | P14: 70 x 32 x 72mm | Q14: 70 x 32 x 72mm | R14: L=85 Ø 32mm | S14: L=85 Ø 32mm | T14: L=85 Ø 32mm | U14: L=85 Ø 33mm | V14: L=85 Ø 33mm | W14: L=85 Ø 33mm | X14: L=40 Ø 32mm | Y14: L=40 Ø 32mm | Z14: L=40 Ø 32mm | AA14: L=40 Ø 32mm
A15: ① | B15: ='Light modules'!B15 -> Area name 1
A16: ② | B16: ='Light modules'!B16 -> Area name 2
A17: ③ | B17: ='Light modules'!B17 -> Area name 3
A18: ④ | B18: ='Light modules'!B18 -> Area name 4
A19: ⑤ | B19: ='Light modules'!B19 -> Area name 5
A20: ⑥ | B20: ='Light modules'!B20 -> Area name 6
A21: ⑦ | B21: ='Light modules'!B21 -> Area name 7
A22: ⑧ | B22: ='Light modules'!B22 -> Area name 8
A23: ⑨ | B23: ='Light modules'!B23 -> Area name 9
A24: ⑩ | B24: ='Light modules'!B24 -> Area name 10
A25: ⑪ | B25: ='Light modules'!B25 -> Area name 11
A26: ⑫ | B26: ='Light modules'!B26 -> Area name 12
A27: TOTAL | C27: =SUM(C15:C26) -> 0 | D27: =SUM(D15:D26) -> 0 | E27: =SUM(E15:E26) -> 0 | F27: =SUM(F15:F26) -> 0 | G27: =SUM(G15:G26) -> 0 | H27: =SUM(H15:H26) -> 0 | I27: =SUM(I15:I26) -> 0 | J27: =SUM(J15:J26) -> 0 | ... AA27: =SUM(AA15:AA26) -> 0

Sheet Switch modules
G1: =Compilation!B4 -> ……
G2: =Compilation!B7 -> ……
G3: =Compilation!B9 -> 46302
C6: LIGA.AIR / Switch modules
A8: name | C8: TAST4.240+ | D8: TAST8.240+ | E8: 8T.BATT | F8: OD.T2.240 | G8: SM.BAT.W | H8: SM.BAT.S | I8: SV.BAT.W | J8: SV.BAT.S | K8: TOUCH.60 | L8: TOUCH.55 | M8: 374740000 | N8: 374750000 | O8: FERB.S | P8: 2T+ | Q8: BAT.TAST.W | R8: BAT.TAST.S | S8: 4T.RUND.S+ | T8: 4T.RUND.EG+ | U8: WRD.24+ | V8: WRD.PS.240 | W8: 8T.GLAS.W+
A9: described | C9: 4x button module | D9: 8x button module | E9: 8x button module | F9: 2 button module | G9: magnetic switch | H9: magnetic switch | I9: vibration switch | J9: vibration switch | K9: 1-8 buttons | L9: 1-8 buttons | M9: 2x Bluetooth Edizio | N9: 4x Bluetooth Edizio | O9: remote control black | P9: 2-fold pushbutton | Q9: button panel white | R9: button panel black | S9: rotary pushbutton black | T9: rotary pushbutton steel | U9: Wetterstation | V9: Wetterstation | W9: glass pushbutton
A10: profiles see scheme | E10: battery mode white | G10: battery mode white | H10: battery mode black | I10: battery mode white | J10: battery mode black | K10: SWISS | L10: EUROPE | M10: 9010 white | N10: 9010 white | O10: battery 2 x AAA | P10: voltage & battery-free | Q10: battery butten cell | R10: battery butten cell | S10: USB C battery | T10: USB C battery | W10: battery mode
A11: "long rage" BT5 | C11: yes | D11: yes | E11: yes | F11: yes | G11: yes | H11: yes | I11: yes | J11: yes | K11: yes | L11: yes | M11: yes | N11: yes | O11: yes | P11: yes | Q11: yes | R11: yes | S11: yes | T11: yes | U11: yes | W11: yes
A12: Area number | B12: floor area name
A13: dimensions | C13: 35 x 35 x 22mm | D13: 44 x 44 x 23mm | E13: 44x44x23mm | F13: 52 x 27 x 15mm | G13: 36x70x22mm | H13: 36x70x22mm | I13: 36x70x22mm | J13: 36x70x22mm | K13: 60x60mm | L13: 55x55mm | M13: 60x60mm | N13: 60x60mm | O13: 126 x 42 x 17mm | P13: Ø 58 x 15mm | Q13: 90 x 90 x 12mm | R13: 90 x 90 x 12mm | S13: Ø 23 x 65mm | T13: Ø 23 x 65mm | V13: 85 x 85 x 40mm | W13: 86 x 86 x 15mm
A14: ① | B14: ='Light modules'!B15 -> Area name 1
A15: ② | B15: ='Light modules'!B16 -> Area name 2
A16: ③ | B16: ='Light modules'!B17 -> Area name 3
A17: ④ | B17: ='Light modules'!B18 -> Area name 4
A18: ⑤ | B18: ='Light modules'!B19 -> Area name 5
A19: ⑥ | B19: ='Light modules'!B20 -> Area name 6
A20: ⑦ | B20: ='Light modules'!B21 -> Area name 7
A21: ⑧ | B21: ='Light modules'!B22 -> Area name 8
A22: ⑨ | B22: ='Light modules'!B23 -> Area name 9
A23: ⑩ | B23: ='Light modules'!B24 -> Area name 10
A24: ⑪ | B24: ='Light modules'!B25 -> Area name 11
A25: ⑫ | B25: ='Light modules'!B26 -> Area name 12
A26: TOTAL | C26: =SUM(C14:C25) -> 0 | D26: =SUM(D14:D25) -> 0 | E26: =SUM(E14:E25) -> 0 | F26: =SUM(D14:D25) -> 0 | G26: =SUM(G14:G25) -> 0 | H26: =SUM(H14:H25) -> 0 | I26: =SUM(I14:I25) -> 0 | J26: =SUM(J14:J25) -> 0 | K26: =SUM(K14:K25) -> 0 | L26: =SUM(L14:L25) -> 0 | M26: =SUM(M14:M25) -> 0 | N26: =SUM(N14:N25) -> 0 | ... Y26: =SUM(Y14:Y25) -> 0
